BEGIN:VCALENDAR
VERSION:2.0
PRODID:-//Arts Alive San Antonio - ECPv6.15.20//NONSGML v1.0//EN
CALSCALE:GREGORIAN
METHOD:PUBLISH
X-WR-CALNAME:Arts Alive San Antonio
X-ORIGINAL-URL:https://artsalivesa.com
X-WR-CALDESC:Events for Arts Alive San Antonio
REFRESH-INTERVAL;VALUE=DURATION:PT1H
X-Robots-Tag:noindex
X-PUBLISHED-TTL:PT1H
BEGIN:VTIMEZONE
TZID:UTC
BEGIN:STANDARD
TZOFFSETFROM:+0000
TZOFFSETTO:+0000
TZNAME:UTC
DTSTART:20180101T000000
END:STANDARD
END:VTIMEZONE
BEGIN:VEVENT
DTSTART;TZID=UTC:20190920T193000
DTEND;TZID=UTC:20190921T190000
DTSTAMP:20260423T133000
CREATED:20190912T090441Z
LAST-MODIFIED:20190912T090441Z
UID:712-1569007800-1569092400@artsalivesa.com
SUMMARY:Mary Poppins
DESCRIPTION:See article in News and Commentary. See under Sept.13
URL:https://artsalivesa.com/event/mary-poppins-3/
LOCATION:Texas
END:VEVENT
BEGIN:VEVENT
DTSTART;TZID=UTC:20190915T150000
DTEND;TZID=UTC:20190915T150000
DTSTAMP:20260423T133000
CREATED:20190912T083946Z
LAST-MODIFIED:20190912T083946Z
UID:705-1568559600-1568559600@artsalivesa.com
SUMMARY:Romeo and Juliet
DESCRIPTION:See Sept.6 entry. Read article in News and Commentary
URL:https://artsalivesa.com/event/romeo-and-juliet-3/
LOCATION:Classic Theatre of San Antonio\, 1924 Fredericksburg Rd.\, San Antonio\, Texas
END:VEVENT
BEGIN:VEVENT
DTSTART;TZID=UTC:20190915T140000
DTEND;TZID=UTC:20190915T140000
DTSTAMP:20260423T133000
CREATED:20190912T090215Z
LAST-MODIFIED:20190912T090215Z
UID:710-1568556000-1568556000@artsalivesa.com
SUMMARY:Mary Poppins
DESCRIPTION:See article in News and Commentary. See under Sept. 13
URL:https://artsalivesa.com/event/mary-poppins-2/
LOCATION:Texas
END:VEVENT
BEGIN:VEVENT
DTSTART;TZID=UTC:20190914T193000
DTEND;TZID=UTC:20190914T193000
DTSTAMP:20260423T133000
CREATED:20190912T074757Z
LAST-MODIFIED:20190912T074757Z
UID:692-1568489400-1568489400@artsalivesa.com
SUMMARY:Tosca\, Opera San Antonio
DESCRIPTION:See article in News and Commentary
URL:https://artsalivesa.com/event/tosca-opera-san-antonio-2/
LOCATION:Tobin Center for the Performing Arts\, 100 Auditorium Circle\, San Antonio
END:VEVENT
BEGIN:VEVENT
DTSTART;TZID=UTC:20190913T200000
DTEND;TZID=UTC:20190914T200000
DTSTAMP:20260423T133000
CREATED:20190912T083602Z
LAST-MODIFIED:20190912T083602Z
UID:703-1568404800-1568491200@artsalivesa.com
SUMMARY:Romeo and Juliet
DESCRIPTION:See Sept.6 entry. Read article in News and Commentary
URL:https://artsalivesa.com/event/romeo-and-juliet-2/
LOCATION:Classic Theatre of San Antonio\, 1924 Fredericksburg Rd.\, San Antonio\, Texas
END:VEVENT
BEGIN:VEVENT
DTSTART;TZID=UTC:20190913T200000
DTEND;TZID=UTC:20190914T200000
DTSTAMP:20260423T133000
CREATED:20190910T041820Z
LAST-MODIFIED:20190910T042009Z
UID:670-1568404800-1568491200@artsalivesa.com
SUMMARY:Romeo and Juliet
DESCRIPTION:Shakespeare’s “Romeo and Juliet” opens the 2019-20 season at the Classic Theater of San Antonio. Director Joe Goscinski has transposed the action to a contemporary borderland community. \nShows Fridays-Saturdays 8 p.m.; Sundays 3 p.m. through Sept. 29\n210-589-8450; www.classictheatre.org
URL:https://artsalivesa.com/event/romeo-and-juliet/
LOCATION:Classic Theatre of San Antonio\, 1924 Fredericksburg Rd.\, San Antonio\, Texas
END:VEVENT
BEGIN:VEVENT
DTSTART;TZID=UTC:20190913T193000
DTEND;TZID=UTC:20190914T193000
DTSTAMP:20260423T133000
CREATED:20190910T042706Z
LAST-MODIFIED:20190910T042706Z
UID:673-1568403000-1568489400@artsalivesa.com
SUMMARY:Mary Poppins
DESCRIPTION:The Public Theater of San Antonio kicks off season with a grand production of “Mary Poppins\,” Sept. 13 to Oct. 13; Fridays-Saturdays 7:30 p.m.\, Sundays 2 p.m.; 800 West Ashby Ave.; tickets $20-$45; 210-733-7258; www.thepublicsa.org
URL:https://artsalivesa.com/event/mary-poppins/
LOCATION:Public Theater of San Antonio\, San Pedro Park\, San Antonio\, Texas
END:VEVENT
BEGIN:VEVENT
DTSTART;TZID=UTC:20190912T193000
DTEND;TZID=UTC:20190912T193000
DTSTAMP:20260423T133000
CREATED:20190905T211054Z
LAST-MODIFIED:20190912T074308Z
UID:645-1568316600-1568316600@artsalivesa.com
SUMMARY:TOSCA\, Opera San Antonio
DESCRIPTION:Giacomo Puccini’s timeless masterpiece will have two performances\, Sept.12 and 14\, at 7:30 p.m. Tobin Center for the Performing Arts.\nSee article in News and Commentary
URL:https://artsalivesa.com/event/tosca-opera-san-antonio/
LOCATION:Tobin Center for the Performing Arts\, 100 Auditorium Circle\, San Antonio
END:VEVENT
BEGIN:VEVENT
DTSTART;TZID=UTC:20190908T150000
DTEND;TZID=UTC:20190908T150000
DTSTAMP:20260423T133000
CREATED:20190910T043729Z
LAST-MODIFIED:20190910T043729Z
UID:675-1567954800-1567954800@artsalivesa.com
SUMMARY:Jane Dunnewold\, Artist of the Year
DESCRIPTION:Fiber artist Jane Dunnewold is San Antonio Art League’s Artist of the year\, the first fiber artist to be recognized in this way by San Antonio’s oldest art organization. Her work is on view at the SAAL Museum\,130 King William St. through Oct.27. The museum is free and open to the public. The show opened Sunday\, Sept. 8.
URL:https://artsalivesa.com/event/jane-dunnewold-artist-of-the-year/
LOCATION:San Antonio Art League Museum\, 130 King William Street\,\, San Antonio\, Texas
END:VEVENT
BEGIN:VEVENT
DTSTART;TZID=UTC:20190831T190000
DTEND;TZID=UTC:20190831T190000
DTSTAMP:20260423T133000
CREATED:20190830T092546Z
LAST-MODIFIED:20190830T092546Z
UID:635-1567278000-1567278000@artsalivesa.com
SUMMARY:Crossing\, Curated by Mark Hiebert
DESCRIPTION:Part of Fotoseptiembre USA Festival\, this large exhibit featuring multiple artists opens Aug. 31 at 7 p.m. and closes Oct. 12; Digital Pro Lab\, 10103 San Pedro Ave.\, San Antonio\, TX 78216.
URL:https://artsalivesa.com/event/crossing-curated-by-mark-hiebert/
LOCATION:Digital Pro Lab\, 10103 San Pedro Ave.\, San Antonio\, Texas
END:VEVENT
BEGIN:VEVENT
DTSTART;TZID=UTC:20190831T170000
DTEND;TZID=UTC:20190831T170000
DTSTAMP:20260423T133000
CREATED:20190830T091807Z
LAST-MODIFIED:20190830T091807Z
UID:632-1567270800-1567270800@artsalivesa.com
SUMMARY:John Mattson\, Karen Zimmerly: Bygone Texas
DESCRIPTION:Part of Fotoseptiembre USA Festival\, the exhibit opens Aug. 31 at 5 p.m. and closes Nov. 3; Musical Bridges Around the World Gallery\, 23705 IH-10 West Frontage Rd.\, Suite 101\, San Antonio\, TX 78257
URL:https://artsalivesa.com/event/john-mattson-karen-zimmerly-bygone-texas/
LOCATION:Musical Bridges Around the World Gallety\, 23705 IH-10 West Frontage Rd.\, Suite 101\, San Antonio\, Texas
END:VEVENT
BEGIN:VEVENT
DTSTART;TZID=UTC:20190830T180000
DTEND;TZID=UTC:20190830T180000
DTSTAMP:20260423T133000
CREATED:20190830T090922Z
LAST-MODIFIED:20190830T090922Z
UID:629-1567188000-1567188000@artsalivesa.com
SUMMARY:Theresa Newsome Garrard: What My Mother Told Me\, What My Grandmother Refused to Say
DESCRIPTION:“What my Mother Told Me\, What My Grandmother Refused to Say” will be on view Aug. 30 to September 27; Semmes Gallery\, Kelso Art Center\, University of the Incarnate Word. Part of the Fotoseptiembre USA Festival.
URL:https://artsalivesa.com/event/theresa-newsome-garrard-what-my-mother-told-me-what-my-grandmother-refused-to-say/
LOCATION:Semmes Gallery\, University of the Incarnate Word\, 4301 Broadway\, San Antonio\, Texas
END:VEVENT
BEGIN:VEVENT
DTSTART;TZID=UTC:20190830T173000
DTEND;TZID=UTC:20190830T173000
DTSTAMP:20260423T133000
CREATED:20190830T085638Z
LAST-MODIFIED:20190830T085638Z
UID:626-1567186200-1567186200@artsalivesa.com
SUMMARY:Melanie Rush Davis: A Requiremnet of Time
DESCRIPTION:Part of Fotosemptiembre USA\, the exhibit opens Aug. 30 at 5:30 p.m. with an opening reception\, and closes on Sept. 29\, at the Russell Hill Rogers Galleries\, Southwest School of Art\, 1201 Navarro St.\, San Antonio\, TX 78205
URL:https://artsalivesa.com/event/melanie-rush-davis-a-requiremnet-of-time/
LOCATION:Southwest School of Art\, 300 Augusta\,\, San Antonio
END:VEVENT
BEGIN:VEVENT
DTSTART;VALUE=DATE:20190830
DTEND;VALUE=DATE:20190831
DTSTAMP:20260423T133000
CREATED:20190830T083314Z
LAST-MODIFIED:20190830T084547Z
UID:620-1567123200-1567209599@artsalivesa.com
SUMMARY:JOEL SALCIDO: Retablos Fronterizos
DESCRIPTION:Photography as art will be shown throughout San Antonio in September during the Fotoseptiembre USA month. This exhibit by San Antonio artist Joel Salcido opens Aug.29 and closes Oct.6; Mexican Cultural Institute\, 643 E. Nueva St.\, 78205
URL:https://artsalivesa.com/event/joel-salcido-retablos-fronterizos/
LOCATION:Mexican Cultural Institute\, 643 E. Nueva St.\, San Antonio\, TX
END:VEVENT
BEGIN:VEVENT
DTSTART;TZID=UTC:20190824T193000
DTEND;TZID=UTC:20190824T193000
DTSTAMP:20260423T133000
CREATED:20190809T222444Z
LAST-MODIFIED:20190809T222444Z
UID:565-1566675000-1566675000@artsalivesa.com
SUMMARY:Slavic Soul Party
DESCRIPTION:A nine-member New York-based jazz ensemble that includes Gypsy style brass and wins critical praise\, but\, it has little to do with the Slavic soul.
URL:https://artsalivesa.com/event/slavic-soul-party/
LOCATION:Empire Theater\, 226 N. St. Mary's\, San Antonio\, Texas\, 78205
END:VEVENT
BEGIN:VEVENT
DTSTART;TZID=UTC:20190821T190000
DTEND;TZID=UTC:20190821T190000
DTSTAMP:20260423T133000
CREATED:20190809T221219Z
LAST-MODIFIED:20190809T221219Z
UID:562-1566414000-1566414000@artsalivesa.com
SUMMARY:Lost 80's Live
DESCRIPTION:Although this is a Tobin Center Event\, it takes place at the Sunken Garden Theater\, 3875 N. St. Mary’s\, 78212\nKONO 101.1 BIG NIGHT OUT 20\nIt’s an 80s flash back concert with a remarkable lineup
URL:https://artsalivesa.com/event/lost-80s-live/
LOCATION:Sunken Garden Theater\, 3875 N. St. Mary's\, SAn Antonio\, Texas 78212
END:VEVENT
BEGIN:VEVENT
DTSTART;TZID=UTC:20190810T190000
DTEND;TZID=UTC:20190810T190000
DTSTAMP:20260423T133000
CREATED:20190809T220130Z
LAST-MODIFIED:20190809T220130Z
UID:559-1565463600-1565463600@artsalivesa.com
SUMMARY:Science Friday Live with Ira Flatow
DESCRIPTION:The popular host of NPR’s Science Friday and his crew will be at the Tobin to talk about science news and stories happening around here. Program includes live music\, video screenings and demonstrations. The event will be recorded for a future broadcast.
URL:https://artsalivesa.com/event/science-friday-live-with-ira-flatow/
LOCATION:Tobin Center for the Performing Arts\, 100 Auditorium Circle\, San Antonio
END:VEVENT
BEGIN:VEVENT
DTSTART;TZID=UTC:20190809T200000
DTEND;TZID=UTC:20190809T200000
DTSTAMP:20260423T133000
CREATED:20190809T215010Z
LAST-MODIFIED:20190809T215250Z
UID:555-1565380800-1565380800@artsalivesa.com
SUMMARY:Bobby Bones & The Raging Idiots
DESCRIPTION:
URL:https://artsalivesa.com/event/bobby-bones-the-raging-idiots/
LOCATION:Tobin Center for the Performing Arts\, 100 Auditorium Circle\, San Antonio
END:VEVENT
BEGIN:VEVENT
DTSTART;TZID=UTC:20190807T193000
DTEND;TZID=UTC:20190809T164414
DTSTAMP:20260423T133000
CREATED:20190809T214413Z
LAST-MODIFIED:20190809T214413Z
UID:553-1565206200-1565369054@artsalivesa.com
SUMMARY:Farruko Gangalee Tour
DESCRIPTION:Claiming the top spot on multiple Billboard charts\, Farruko has paved his way to superstardom by mixing reggaeton\, rap\, hip-hop and more on his No.1 hits such as “Calma\,” “Sunset\,” and “Chillax.”\nWith Latin flavors! Aug. 7 at 7:30 p.m.; Tobin Center for the Performing Arts
URL:https://artsalivesa.com/event/farruko-gangalee-tour/
LOCATION:Tobin Center for the Performing Arts\, 100 Auditorium Circle\, San Antonio
END:VEVENT
BEGIN:VEVENT
DTSTART;TZID=UTC:20190728T180000
DTEND;TZID=UTC:20190728T180000
DTSTAMP:20260423T133000
CREATED:20190727T070129Z
LAST-MODIFIED:20190727T070340Z
UID:534-1564336800-1564336800@artsalivesa.com
SUMMARY:Free Live Music at Paper Tiger\, Lonesome Rose
DESCRIPTION:See description under July 27
URL:https://artsalivesa.com/event/free-live-music-at-paper-tiger-lonesome-rose-2/
LOCATION:Paper Tiger\, 2410 N. St. Mary's Street\, San Antonio\, Texas
END:VEVENT
BEGIN:VEVENT
DTSTART;TZID=UTC:20190728T163000
DTEND;TZID=UTC:20190728T163000
DTSTAMP:20260423T133000
CREATED:20190718T220736Z
LAST-MODIFIED:20190718T220736Z
UID:502-1564331400-1564331400@artsalivesa.com
SUMMARY:Give Belly Dance A Chance
DESCRIPTION:See July 27 entry
URL:https://artsalivesa.com/event/give-belly-dance-a-chance-2/
LOCATION:Josephine Theater\, San Antonio\, TX
END:VEVENT
BEGIN:VEVENT
DTSTART;TZID=UTC:20190727T193000
DTEND;TZID=UTC:20190728T193000
DTSTAMP:20260423T133000
CREATED:20190718T220348Z
LAST-MODIFIED:20190718T220348Z
UID:496-1564255800-1564342200@artsalivesa.com
SUMMARY:Give Belly Dance a Chance
DESCRIPTION:San Antonio-based Karavan Studio’s annual stage production featuring belly dancers and live music by an outstanding group of musicians.
URL:https://artsalivesa.com/event/give-belly-dance-a-chance/
LOCATION:Josephine Theater\, San Antonio\, TX
END:VEVENT
BEGIN:VEVENT
DTSTART;TZID=UTC:20190727T190000
DTEND;TZID=UTC:20190727T190000
DTSTAMP:20260423T133000
CREATED:20190727T065639Z
LAST-MODIFIED:20190727T065639Z
UID:531-1564254000-1564254000@artsalivesa.com
SUMMARY:Free Live Music at Paper Tiger\, Lonesome Rose
DESCRIPTION:Two well-known clubs on North St.Mary’s Street -Paper Tiger and the Lonesome Rose-  are teaming up this weekend to offer a lot of free live music to fans Saturday and Sunday.  \nPaper Tiger (2410 North St. Mary’s)will present more than 20 bands performing on two stages\, and the Lonesome Rose will have about half that number. To see the lineup go to Paper Tiger’s Instagram account: @papertigersatx.
URL:https://artsalivesa.com/event/free-live-music-at-paper-tiger-lonesome-rose/
LOCATION:Paper Tiger\, 2410 N. St. Mary's Street\, San Antonio\, Texas
END:VEVENT
BEGIN:VEVENT
DTSTART;TZID=UTC:20190727T180000
DTEND;TZID=UTC:20190727T180000
DTSTAMP:20260423T133000
CREATED:20190725T203547Z
LAST-MODIFIED:20190725T203731Z
UID:527-1564250400-1564250400@artsalivesa.com
SUMMARY:Aztlan Libre Press Book Launch
DESCRIPTION:Aztlan Libre Press is throwing a party to launch its 12th publication\, “Cancion Cannibal” by Amalia Leticia Ortiz.\nThe evening includes the Cancion Cannibal Cabaret & Other Songs performed by the author herself. The show is described as “a feminist punk rock musical.” Plus reception and book signing.
URL:https://artsalivesa.com/event/aztlan-libre-press-book-launch/
LOCATION:Guadalupe Cultural Arts Center\, 1301 Guadalupe St.\,\, San Antonio\, TX
END:VEVENT
BEGIN:VEVENT
DTSTART;TZID=UTC:20190727T180000
DTEND;TZID=UTC:20190727T180000
DTSTAMP:20260423T133000
CREATED:20190725T202403Z
LAST-MODIFIED:20190725T202403Z
UID:524-1564250400-1564250400@artsalivesa.com
SUMMARY:Spiritual Visions
DESCRIPTION:An Exhibit of Illuminated Mystical Illustrations by well-known artist Richard Arrendondo at Bihl Haus Arts. The opening night party on July 27 will feature poolside jazz by the exceptional father-son duo George and Aaron Prado\, plus refreshments and libations.Closes Aug. 31
URL:https://artsalivesa.com/event/spiritual-visions/
LOCATION:Bihl Haus Arts\, 2803 Fredericksburg Rd.\, San Antonio\, Texas
END:VEVENT
BEGIN:VEVENT
DTSTART;TZID=UTC:20190721T190000
DTEND;TZID=UTC:20190721T190000
DTSTAMP:20260423T133000
CREATED:20190703T093031Z
LAST-MODIFIED:20190703T093031Z
UID:446-1563735600-1563735600@artsalivesa.com
SUMMARY:Celeste Barber is Back
DESCRIPTION:Actor\, comedian and social media superstar Celeste Barber will entertain the audience with stories of her life and unexpected success.
URL:https://artsalivesa.com/event/celeste-barber-is-back/
LOCATION:Tobin Center for the Performing Arts\, 100 Auditorium Circle\, San Antonio
END:VEVENT
BEGIN:VEVENT
DTSTART;TZID=UTC:20190721T150000
DTEND;TZID=UTC:20190721T150000
DTSTAMP:20260423T133000
CREATED:20190703T083455Z
LAST-MODIFIED:20190703T083455Z
UID:433-1563721200-1563721200@artsalivesa.com
SUMMARY:Beauty and the Beast
DESCRIPTION:
URL:https://artsalivesa.com/event/beauty-and-the-beast-6/
LOCATION:Woodlawn Theater\, Fredericksburg Rd.\, SAn Antonio
END:VEVENT
BEGIN:VEVENT
DTSTART;TZID=UTC:20190720T080000
DTEND;TZID=UTC:20190720T080000
DTSTAMP:20260423T133000
CREATED:20190718T224728Z
LAST-MODIFIED:20190718T224728Z
UID:504-1563609600-1563609600@artsalivesa.com
SUMMARY:Jazzed on Tap
DESCRIPTION:The annual Third Coast Rhythm Project’s tap dance showcase\, featuring tap masters from across the U.S. and the Mark Rubinstein Jazz Trio.
URL:https://artsalivesa.com/event/jazzed-on-tap/
LOCATION:Carver Community Cultural Center\, 226 N. Hackberry\, San Antonio\, Texas 78202
END:VEVENT
BEGIN:VEVENT
DTSTART;TZID=UTC:20190719T193000
DTEND;TZID=UTC:20190720T193000
DTSTAMP:20260423T133000
CREATED:20190703T083251Z
LAST-MODIFIED:20190703T083251Z
UID:431-1563564600-1563651000@artsalivesa.com
SUMMARY:Beauty and the Beast
DESCRIPTION:
URL:https://artsalivesa.com/event/beauty-and-the-beast-5/
LOCATION:Woodlawn Theater\, Fredericksburg Rd.\, SAn Antonio
END:VEVENT
BEGIN:VEVENT
DTSTART;TZID=UTC:20190719T193000
DTEND;TZID=UTC:20190719T193000
DTSTAMP:20260423T133000
CREATED:20190703T102805Z
LAST-MODIFIED:20190703T102805Z
UID:457-1563564600-1563564600@artsalivesa.com
SUMMARY:Balcones Heights Jazz Festival
DESCRIPTION:See under July 12
URL:https://artsalivesa.com/event/balcones-heights-jazz-festival-2/
LOCATION:Wonderland of the Americas outdoor amphitheate\, Balcones Heights\,\, Texas
END:VEVENT
END:VCALENDAR