BEGIN:VCALENDAR
VERSION:2.0
PRODID:-//Arts Alive San Antonio - ECPv6.15.20//NONSGML v1.0//EN
CALSCALE:GREGORIAN
METHOD:PUBLISH
X-ORIGINAL-URL:https://artsalivesa.com
X-WR-CALDESC:Events for Arts Alive San Antonio
REFRESH-INTERVAL;VALUE=DURATION:PT1H
X-Robots-Tag:noindex
X-PUBLISHED-TTL:PT1H
BEGIN:VTIMEZONE
TZID:UTC
BEGIN:STANDARD
TZOFFSETFROM:+0000
TZOFFSETTO:+0000
TZNAME:UTC
DTSTART:20180101T000000
END:STANDARD
END:VTIMEZONE
BEGIN:VEVENT
DTSTART;TZID=UTC:20190728T163000
DTEND;TZID=UTC:20190728T163000
DTSTAMP:20260423T165609
CREATED:20190718T220736Z
LAST-MODIFIED:20190718T220736Z
UID:502-1564331400-1564331400@artsalivesa.com
SUMMARY:Give Belly Dance A Chance
DESCRIPTION:See July 27 entry
URL:https://artsalivesa.com/event/give-belly-dance-a-chance-2/
LOCATION:Josephine Theater\, San Antonio\, TX
END:VEVENT
BEGIN:VEVENT
DTSTART;TZID=UTC:20190727T193000
DTEND;TZID=UTC:20190728T193000
DTSTAMP:20260423T165609
CREATED:20190718T220348Z
LAST-MODIFIED:20190718T220348Z
UID:496-1564255800-1564342200@artsalivesa.com
SUMMARY:Give Belly Dance a Chance
DESCRIPTION:San Antonio-based Karavan Studio’s annual stage production featuring belly dancers and live music by an outstanding group of musicians.
URL:https://artsalivesa.com/event/give-belly-dance-a-chance/
LOCATION:Josephine Theater\, San Antonio\, TX
END:VEVENT
BEGIN:VEVENT
DTSTART;TZID=UTC:20190727T190000
DTEND;TZID=UTC:20190727T190000
DTSTAMP:20260423T165609
CREATED:20190727T065639Z
LAST-MODIFIED:20190727T065639Z
UID:531-1564254000-1564254000@artsalivesa.com
SUMMARY:Free Live Music at Paper Tiger\, Lonesome Rose
DESCRIPTION:Two well-known clubs on North St.Mary’s Street -Paper Tiger and the Lonesome Rose-  are teaming up this weekend to offer a lot of free live music to fans Saturday and Sunday.  \nPaper Tiger (2410 North St. Mary’s)will present more than 20 bands performing on two stages\, and the Lonesome Rose will have about half that number. To see the lineup go to Paper Tiger’s Instagram account: @papertigersatx.
URL:https://artsalivesa.com/event/free-live-music-at-paper-tiger-lonesome-rose/
LOCATION:Paper Tiger\, 2410 N. St. Mary's Street\, San Antonio\, Texas
END:VEVENT
BEGIN:VEVENT
DTSTART;TZID=UTC:20190727T180000
DTEND;TZID=UTC:20190727T180000
DTSTAMP:20260423T165609
CREATED:20190725T203547Z
LAST-MODIFIED:20190725T203731Z
UID:527-1564250400-1564250400@artsalivesa.com
SUMMARY:Aztlan Libre Press Book Launch
DESCRIPTION:Aztlan Libre Press is throwing a party to launch its 12th publication\, “Cancion Cannibal” by Amalia Leticia Ortiz.\nThe evening includes the Cancion Cannibal Cabaret & Other Songs performed by the author herself. The show is described as “a feminist punk rock musical.” Plus reception and book signing.
URL:https://artsalivesa.com/event/aztlan-libre-press-book-launch/
LOCATION:Guadalupe Cultural Arts Center\, 1301 Guadalupe St.\,\, San Antonio\, TX
END:VEVENT
BEGIN:VEVENT
DTSTART;TZID=UTC:20190727T180000
DTEND;TZID=UTC:20190727T180000
DTSTAMP:20260423T165609
CREATED:20190725T202403Z
LAST-MODIFIED:20190725T202403Z
UID:524-1564250400-1564250400@artsalivesa.com
SUMMARY:Spiritual Visions
DESCRIPTION:An Exhibit of Illuminated Mystical Illustrations by well-known artist Richard Arrendondo at Bihl Haus Arts. The opening night party on July 27 will feature poolside jazz by the exceptional father-son duo George and Aaron Prado\, plus refreshments and libations.Closes Aug. 31
URL:https://artsalivesa.com/event/spiritual-visions/
LOCATION:Bihl Haus Arts\, 2803 Fredericksburg Rd.\, San Antonio\, Texas
END:VEVENT
BEGIN:VEVENT
DTSTART;TZID=UTC:20190721T190000
DTEND;TZID=UTC:20190721T190000
DTSTAMP:20260423T165609
CREATED:20190703T093031Z
LAST-MODIFIED:20190703T093031Z
UID:446-1563735600-1563735600@artsalivesa.com
SUMMARY:Celeste Barber is Back
DESCRIPTION:Actor\, comedian and social media superstar Celeste Barber will entertain the audience with stories of her life and unexpected success.
URL:https://artsalivesa.com/event/celeste-barber-is-back/
LOCATION:Tobin Center for the Performing Arts\, 100 Auditorium Circle\, San Antonio
END:VEVENT
BEGIN:VEVENT
DTSTART;TZID=UTC:20190721T150000
DTEND;TZID=UTC:20190721T150000
DTSTAMP:20260423T165609
CREATED:20190703T083455Z
LAST-MODIFIED:20190703T083455Z
UID:433-1563721200-1563721200@artsalivesa.com
SUMMARY:Beauty and the Beast
DESCRIPTION:
URL:https://artsalivesa.com/event/beauty-and-the-beast-6/
LOCATION:Woodlawn Theater\, Fredericksburg Rd.\, SAn Antonio
END:VEVENT
BEGIN:VEVENT
DTSTART;TZID=UTC:20190720T080000
DTEND;TZID=UTC:20190720T080000
DTSTAMP:20260423T165609
CREATED:20190718T224728Z
LAST-MODIFIED:20190718T224728Z
UID:504-1563609600-1563609600@artsalivesa.com
SUMMARY:Jazzed on Tap
DESCRIPTION:The annual Third Coast Rhythm Project’s tap dance showcase\, featuring tap masters from across the U.S. and the Mark Rubinstein Jazz Trio.
URL:https://artsalivesa.com/event/jazzed-on-tap/
LOCATION:Carver Community Cultural Center\, 226 N. Hackberry\, San Antonio\, Texas 78202
END:VEVENT
BEGIN:VEVENT
DTSTART;TZID=UTC:20190719T193000
DTEND;TZID=UTC:20190720T193000
DTSTAMP:20260423T165609
CREATED:20190703T083251Z
LAST-MODIFIED:20190703T083251Z
UID:431-1563564600-1563651000@artsalivesa.com
SUMMARY:Beauty and the Beast
DESCRIPTION:
URL:https://artsalivesa.com/event/beauty-and-the-beast-5/
LOCATION:Woodlawn Theater\, Fredericksburg Rd.\, SAn Antonio
END:VEVENT
BEGIN:VEVENT
DTSTART;TZID=UTC:20190719T193000
DTEND;TZID=UTC:20190719T193000
DTSTAMP:20260423T165609
CREATED:20190703T102805Z
LAST-MODIFIED:20190703T102805Z
UID:457-1563564600-1563564600@artsalivesa.com
SUMMARY:Balcones Heights Jazz Festival
DESCRIPTION:See under July 12
URL:https://artsalivesa.com/event/balcones-heights-jazz-festival-2/
LOCATION:Wonderland of the Americas outdoor amphitheate\, Balcones Heights\,\, Texas
END:VEVENT
BEGIN:VEVENT
DTSTART;TZID=UTC:20190719T080000
DTEND;TZID=UTC:20190719T080000
DTSTAMP:20260423T165609
CREATED:20190703T100406Z
LAST-MODIFIED:20190703T100406Z
UID:450-1563523200-1563523200@artsalivesa.com
SUMMARY:Menopause The Musical
DESCRIPTION:
URL:https://artsalivesa.com/event/menopause-the-musical/
LOCATION:Tobin Center for the Performing Arts\, 100 Auditorium Circle\, San Antonio
END:VEVENT
BEGIN:VEVENT
DTSTART;TZID=UTC:20190714T150000
DTEND;TZID=UTC:20190714T150000
DTSTAMP:20260423T165609
CREATED:20190703T091412Z
LAST-MODIFIED:20190703T091412Z
UID:442-1563116400-1563116400@artsalivesa.com
SUMMARY:An Evening with Edgar Allan Poe
DESCRIPTION:See description under July 5
URL:https://artsalivesa.com/event/an-evening-with-edgar-allan-poe-3/
LOCATION:Overtime Theater\, 5409 Bandera Rd.\, Suite 205\, San Antonio
END:VEVENT
BEGIN:VEVENT
DTSTART;TZID=UTC:20190714T150000
DTEND;TZID=UTC:20190714T150000
DTSTAMP:20260423T165609
CREATED:20190703T082931Z
LAST-MODIFIED:20190703T082931Z
UID:429-1563116400-1563116400@artsalivesa.com
SUMMARY:Beauty and the Beast
DESCRIPTION:
URL:https://artsalivesa.com/event/beauty-and-the-beast-4/
LOCATION:Woodlawn Theater\, Fredericksburg Rd.\, SAn Antonio
END:VEVENT
BEGIN:VEVENT
DTSTART;TZID=UTC:20190713T190000
DTEND;TZID=UTC:20190713T190000
DTSTAMP:20260423T165609
CREATED:20190703T100648Z
LAST-MODIFIED:20190703T100648Z
UID:452-1563044400-1563044400@artsalivesa.com
SUMMARY:Summer Blues Fest
DESCRIPTION:
URL:https://artsalivesa.com/event/summer-blues-fest/
LOCATION:Tobin Center for the Performing Arts\, 100 Auditorium Circle\, San Antonio
END:VEVENT
BEGIN:VEVENT
DTSTART;TZID=UTC:20190712T193000
DTEND;TZID=UTC:20190713T193000
DTSTAMP:20260423T165609
CREATED:20190703T082728Z
LAST-MODIFIED:20190703T082728Z
UID:427-1562959800-1563046200@artsalivesa.com
SUMMARY:Beauty and The Beast
DESCRIPTION:See description under July 5
URL:https://artsalivesa.com/event/beauty-and-the-beast-3/
LOCATION:Woodlawn Theater\, Fredericksburg Rd.\, SAn Antonio
END:VEVENT
BEGIN:VEVENT
DTSTART;TZID=UTC:20190712T193000
DTEND;TZID=UTC:20190712T193000
DTSTAMP:20260423T165609
CREATED:20190703T102120Z
LAST-MODIFIED:20190703T102120Z
UID:454-1562959800-1562959800@artsalivesa.com
SUMMARY:Balcones Heights Jazz Festival
DESCRIPTION:For four Friday evenings in July and August\, July 12 – Aug.2\, jazz musicians will entertain audiences in the outdoor amphitheater at the Wonderland of the Americas mall\, 4522 Fredericksburg Rd.\, just inside Loop 410
URL:https://artsalivesa.com/event/balcones-heights-jazz-festival/
LOCATION:Outdoor amphitheater\, Wonderland of the Americas mall\, 4522 Fredericksburg Rd.\, Balcones Heights\, Texas
END:VEVENT
BEGIN:VEVENT
DTSTART;TZID=UTC:20190712T080000
DTEND;TZID=UTC:20190713T200000
DTSTAMP:20260423T165609
CREATED:20190703T091057Z
LAST-MODIFIED:20190703T091057Z
UID:440-1562918400-1563048000@artsalivesa.com
SUMMARY:An Evening with Edgar Allan Poe
DESCRIPTION:See description under July 5
URL:https://artsalivesa.com/event/an-evening-with-edgar-allan-poe-2/
LOCATION:Overtime Theater\, 5409 Bandera Rd.\, Suite 205\, San Antonio
END:VEVENT
BEGIN:VEVENT
DTSTART;TZID=UTC:20190712T080000
DTEND;TZID=UTC:20190712T080000
DTSTAMP:20260423T165609
CREATED:20190703T092217Z
LAST-MODIFIED:20190703T092217Z
UID:444-1562918400-1562918400@artsalivesa.com
SUMMARY:H-E-B Cinema on the PLaza: Spider Man: Into the Spider-Verse
DESCRIPTION:Free screening of the movie\, Will Naylor Smith River Walk Plaza\, 100 Auditorium Circle\, San Antonio\, Tx 78205. A Tobin Center event
URL:https://artsalivesa.com/event/h-e-b-cinema-on-the-plaza-spider-man-into-the-spider-verse/
LOCATION:Will Naylor Smith River Walk Plaza\, 100 Auditorium Circle\, San Antonio\, TX 78205
END:VEVENT
BEGIN:VEVENT
DTSTART;TZID=UTC:20190707T150000
DTEND;TZID=UTC:20190707T150000
DTSTAMP:20260423T165609
CREATED:20190703T082353Z
LAST-MODIFIED:20190703T082353Z
UID:425-1562511600-1562511600@artsalivesa.com
SUMMARY:Beauty and the Beast
DESCRIPTION:See description under July 5
URL:https://artsalivesa.com/event/beauty-and-the-beast-2/
LOCATION:Woodlawn Theater\, Fredericksburg Rd.\, SAn Antonio
END:VEVENT
BEGIN:VEVENT
DTSTART;TZID=UTC:20190706T080000
DTEND;TZID=UTC:20190706T080000
DTSTAMP:20260423T165609
CREATED:20190703T100211Z
LAST-MODIFIED:20190703T100211Z
UID:448-1562400000-1562400000@artsalivesa.com
SUMMARY:The LIighting Thief: THe Percy Jackson Musical
DESCRIPTION:
URL:https://artsalivesa.com/event/the-liighting-thief-the-percy-jackson-musical/
LOCATION:Tobin Center for the Performing Arts\, 100 Auditorium Circle\, San Antonio
END:VEVENT
BEGIN:VEVENT
DTSTART;TZID=UTC:20190706T080000
DTEND;TZID=UTC:20190706T080000
DTSTAMP:20260423T165609
CREATED:20190703T084132Z
LAST-MODIFIED:20190703T084132Z
UID:435-1562400000-1562400000@artsalivesa.com
SUMMARY:Hystorias y Recuerdo: A Mexican-American Story
DESCRIPTION:See article in News and Commentary
URL:https://artsalivesa.com/event/hystorias-y-recuerdo-a-mexican-american-story/
LOCATION:Guadalupe Cultural Arts Center\, 1301 Guadalupe St.\,\, San Antonio\, TX
END:VEVENT
BEGIN:VEVENT
DTSTART;TZID=UTC:20190705T193000
DTEND;TZID=UTC:20190705T193000
DTSTAMP:20260423T165609
CREATED:20190703T082012Z
LAST-MODIFIED:20190703T082012Z
UID:423-1562355000-1562355000@artsalivesa.com
SUMMARY:Beauty and the Beast
DESCRIPTION:Musical based on the 1991 animated Disney film with an Oscar-winning score and an iconic story that includes multiple life lessons. It will run weekends through July 28; Fridays-Saturdays at 7:30 p.m.\, Sundays at 3 p.m.; special Saturday performance July 13 at 2 p.m. and another special performance Thursday July 25 at 7 p.m. (see article in News and Commentary)
URL:https://artsalivesa.com/event/beauty-and-the-beast/
LOCATION:Woodlawn Theater\, Fredericksburg Rd.\, SAn Antonio
END:VEVENT
BEGIN:VEVENT
DTSTART;TZID=UTC:20190705T080000
DTEND;TZID=UTC:20190706T200000
DTSTAMP:20260423T165609
CREATED:20190703T090722Z
LAST-MODIFIED:20190703T090722Z
UID:438-1562313600-1562443200@artsalivesa.com
SUMMARY:An Evening with Edgar Allan Poe
DESCRIPTION:Original new play written and performed by Derek Berlin at the Overtime Theater\nOpens July 5 and runs through July 27; Fridays-Saturdays 8 p.m.\, Sunday July 14 at 3 p.m. and Sunday July 21 at 7 p.m.
URL:https://artsalivesa.com/event/an-evening-with-edgar-allan-poe/
LOCATION:Overtime Theater\, 5409 Bandera Rd.\, Suite 205\, San Antonio
END:VEVENT
BEGIN:VEVENT
DTSTART;TZID=UTC:20190621T080000
DTEND;TZID=UTC:20190622T200000
DTSTAMP:20260423T165609
CREATED:20190607T102923Z
LAST-MODIFIED:20190607T102923Z
UID:368-1561104000-1561233600@artsalivesa.com
SUMMARY:"Ride the Musical"
DESCRIPTION:For description refer to June 7
URL:https://artsalivesa.com/event/ride-the-musical-3/
LOCATION:Overtime Theater\, 5409 Bandera Rd.\, Suite 205\, San Antonio
END:VEVENT
BEGIN:VEVENT
DTSTART;TZID=UTC:20190614T080000
DTEND;TZID=UTC:20190616T200000
DTSTAMP:20260423T165609
CREATED:20190607T102727Z
LAST-MODIFIED:20190607T102727Z
UID:366-1560499200-1560715200@artsalivesa.com
SUMMARY:"Ride the Musical"
DESCRIPTION:For description refer to June 7
URL:https://artsalivesa.com/event/ride-the-musical-2/
LOCATION:Overtime Theater\, 5409 Bandera Rd.\, Suite 205\, San Antonio
END:VEVENT
BEGIN:VEVENT
DTSTART;TZID=UTC:20190609T150000
DTEND;TZID=UTC:20190609T150000
DTSTAMP:20260423T165609
CREATED:20190607T101243Z
LAST-MODIFIED:20190607T101243Z
UID:363-1560092400-1560092400@artsalivesa.com
SUMMARY:Mid-Century Modern
DESCRIPTION:A unique exhibit of Mid-Century Modern Art from the collection of the San Antonio Art League Museum. Opens Sunday\, June 9\, 3-5 p.m. Regular museum hours are Tue-Sat\, 10 a.m. to 3 p.m.
URL:https://artsalivesa.com/event/mid-century-modern/
LOCATION:San Antonio Art League Museum\, 130 King William Street\,\, San Antonio\, Texas
END:VEVENT
BEGIN:VEVENT
DTSTART;TZID=UTC:20190609T140000
DTEND;TZID=UTC:20190609T140000
DTSTAMP:20260423T165609
CREATED:20190608T023431Z
LAST-MODIFIED:20190608T023431Z
UID:372-1560088800-1560088800@artsalivesa.com
SUMMARY:Once
DESCRIPTION:
URL:https://artsalivesa.com/event/once-5/
LOCATION:Public Theater of San Antonio\, San Pedro Park\, San Antonio\, Texas
END:VEVENT
BEGIN:VEVENT
DTSTART;TZID=UTC:20190607T200000
DTEND;TZID=UTC:20190609T200000
DTSTAMP:20260423T165609
CREATED:20190607T100312Z
LAST-MODIFIED:20190607T102320Z
UID:361-1559937600-1560110400@artsalivesa.com
SUMMARY:"Ride the Musical"
DESCRIPTION:A new musical by Dan Timoskevich and Rachel Roth at the Overtime Theater. It’s the story of a taxi driver whose business is suffering due to the rise of rideshare services. He and his daughter – who wants to go to acting school – “decide to test their limits as to what they’re willing to do to stay afloat.” Nicole Erwin directs. Timoskevich won the ATAC Globe Award for his previous musical “Nightingale.” \nOpened May 31\, closes June 22\, 2019\, Overtime Theater\, 5409 Bandera Rd.\, Suite 205
URL:https://artsalivesa.com/event/ride-the-musical/
LOCATION:Overtime Theater\, 5409 Bandera Rd.\, Suite 205\, San Antonio
END:VEVENT
BEGIN:VEVENT
DTSTART;TZID=UTC:20190607T193000
DTEND;TZID=UTC:20190608T193000
DTSTAMP:20260423T165609
CREATED:20190608T023141Z
LAST-MODIFIED:20190608T023141Z
UID:370-1559935800-1560022200@artsalivesa.com
SUMMARY:Once
DESCRIPTION:
URL:https://artsalivesa.com/event/once-4/
LOCATION:Public Theater of San Antonio\, San Pedro Park\, San Antonio\, Texas
END:VEVENT
BEGIN:VEVENT
DTSTART;TZID=UTC:20190605T000000
DTEND;TZID=UTC:20190807T000000
DTSTAMP:20260423T165609
CREATED:20190607T094411Z
LAST-MODIFIED:20190607T094411Z
UID:358-1559692800-1565136000@artsalivesa.com
SUMMARY:State of Hand Stitch
DESCRIPTION:A showcase for 11 fiber artists who specialize in hand-stitched art. A range of styles and themes\, from the abstract and nearly sculptural to the representational and abstract. Opened June 5\, closes Aug. 9\, 2019\, UTSA Main Art Gallery\, located in the Arts Building on the 1604 campus; room 2.03.04. Artists: Jane Dunnewold\, Lucia LaVilla-Havelin\, Kim Paxson\, Miki Rodriguez\, Debbie Armstrong\, Beth Cunningham5 Janis Hooker\, Barbara Lugge\, Mary Ruth Smith\, Pamela Studstill and Sue Ann Sullivan.
URL:https://artsalivesa.com/event/state-of-hand-stitch/
LOCATION:University of Texas at San Antonio Art Gallery\, 1604 campus\, San Antonio\, Texas
END:VEVENT
END:VCALENDAR