BEGIN:VCALENDAR
VERSION:2.0
PRODID:-//Arts Alive San Antonio - ECPv6.15.20//NONSGML v1.0//EN
CALSCALE:GREGORIAN
METHOD:PUBLISH
X-WR-CALNAME:Arts Alive San Antonio
X-ORIGINAL-URL:https://artsalivesa.com
X-WR-CALDESC:Events for Arts Alive San Antonio
REFRESH-INTERVAL;VALUE=DURATION:PT1H
X-Robots-Tag:noindex
X-PUBLISHED-TTL:PT1H
BEGIN:VTIMEZONE
TZID:UTC
BEGIN:STANDARD
TZOFFSETFROM:+0000
TZOFFSETTO:+0000
TZNAME:UTC
DTSTART:20180101T000000
END:STANDARD
END:VTIMEZONE
BEGIN:VEVENT
DTSTART;TZID=UTC:20190706T080000
DTEND;TZID=UTC:20190706T080000
DTSTAMP:20260423T200218
CREATED:20190703T084132Z
LAST-MODIFIED:20190703T084132Z
UID:435-1562400000-1562400000@artsalivesa.com
SUMMARY:Hystorias y Recuerdo: A Mexican-American Story
DESCRIPTION:See article in News and Commentary
URL:https://artsalivesa.com/event/hystorias-y-recuerdo-a-mexican-american-story/
LOCATION:Guadalupe Cultural Arts Center\, 1301 Guadalupe St.\,\, San Antonio\, TX
END:VEVENT
BEGIN:VEVENT
DTSTART;TZID=UTC:20190705T193000
DTEND;TZID=UTC:20190705T193000
DTSTAMP:20260423T200218
CREATED:20190703T082012Z
LAST-MODIFIED:20190703T082012Z
UID:423-1562355000-1562355000@artsalivesa.com
SUMMARY:Beauty and the Beast
DESCRIPTION:Musical based on the 1991 animated Disney film with an Oscar-winning score and an iconic story that includes multiple life lessons. It will run weekends through July 28; Fridays-Saturdays at 7:30 p.m.\, Sundays at 3 p.m.; special Saturday performance July 13 at 2 p.m. and another special performance Thursday July 25 at 7 p.m. (see article in News and Commentary)
URL:https://artsalivesa.com/event/beauty-and-the-beast/
LOCATION:Woodlawn Theater\, Fredericksburg Rd.\, SAn Antonio
END:VEVENT
BEGIN:VEVENT
DTSTART;TZID=UTC:20190705T080000
DTEND;TZID=UTC:20190706T200000
DTSTAMP:20260423T200218
CREATED:20190703T090722Z
LAST-MODIFIED:20190703T090722Z
UID:438-1562313600-1562443200@artsalivesa.com
SUMMARY:An Evening with Edgar Allan Poe
DESCRIPTION:Original new play written and performed by Derek Berlin at the Overtime Theater\nOpens July 5 and runs through July 27; Fridays-Saturdays 8 p.m.\, Sunday July 14 at 3 p.m. and Sunday July 21 at 7 p.m.
URL:https://artsalivesa.com/event/an-evening-with-edgar-allan-poe/
LOCATION:Overtime Theater\, 5409 Bandera Rd.\, Suite 205\, San Antonio
END:VEVENT
BEGIN:VEVENT
DTSTART;TZID=UTC:20190621T080000
DTEND;TZID=UTC:20190622T200000
DTSTAMP:20260423T200218
CREATED:20190607T102923Z
LAST-MODIFIED:20190607T102923Z
UID:368-1561104000-1561233600@artsalivesa.com
SUMMARY:"Ride the Musical"
DESCRIPTION:For description refer to June 7
URL:https://artsalivesa.com/event/ride-the-musical-3/
LOCATION:Overtime Theater\, 5409 Bandera Rd.\, Suite 205\, San Antonio
END:VEVENT
BEGIN:VEVENT
DTSTART;TZID=UTC:20190614T080000
DTEND;TZID=UTC:20190616T200000
DTSTAMP:20260423T200218
CREATED:20190607T102727Z
LAST-MODIFIED:20190607T102727Z
UID:366-1560499200-1560715200@artsalivesa.com
SUMMARY:"Ride the Musical"
DESCRIPTION:For description refer to June 7
URL:https://artsalivesa.com/event/ride-the-musical-2/
LOCATION:Overtime Theater\, 5409 Bandera Rd.\, Suite 205\, San Antonio
END:VEVENT
BEGIN:VEVENT
DTSTART;TZID=UTC:20190609T150000
DTEND;TZID=UTC:20190609T150000
DTSTAMP:20260423T200218
CREATED:20190607T101243Z
LAST-MODIFIED:20190607T101243Z
UID:363-1560092400-1560092400@artsalivesa.com
SUMMARY:Mid-Century Modern
DESCRIPTION:A unique exhibit of Mid-Century Modern Art from the collection of the San Antonio Art League Museum. Opens Sunday\, June 9\, 3-5 p.m. Regular museum hours are Tue-Sat\, 10 a.m. to 3 p.m.
URL:https://artsalivesa.com/event/mid-century-modern/
LOCATION:San Antonio Art League Museum\, 130 King William Street\,\, San Antonio\, Texas
END:VEVENT
BEGIN:VEVENT
DTSTART;TZID=UTC:20190609T140000
DTEND;TZID=UTC:20190609T140000
DTSTAMP:20260423T200218
CREATED:20190608T023431Z
LAST-MODIFIED:20190608T023431Z
UID:372-1560088800-1560088800@artsalivesa.com
SUMMARY:Once
DESCRIPTION:
URL:https://artsalivesa.com/event/once-5/
LOCATION:Public Theater of San Antonio\, San Pedro Park\, San Antonio\, Texas
END:VEVENT
BEGIN:VEVENT
DTSTART;TZID=UTC:20190607T200000
DTEND;TZID=UTC:20190609T200000
DTSTAMP:20260423T200218
CREATED:20190607T100312Z
LAST-MODIFIED:20190607T102320Z
UID:361-1559937600-1560110400@artsalivesa.com
SUMMARY:"Ride the Musical"
DESCRIPTION:A new musical by Dan Timoskevich and Rachel Roth at the Overtime Theater. It’s the story of a taxi driver whose business is suffering due to the rise of rideshare services. He and his daughter – who wants to go to acting school – “decide to test their limits as to what they’re willing to do to stay afloat.” Nicole Erwin directs. Timoskevich won the ATAC Globe Award for his previous musical “Nightingale.” \nOpened May 31\, closes June 22\, 2019\, Overtime Theater\, 5409 Bandera Rd.\, Suite 205
URL:https://artsalivesa.com/event/ride-the-musical/
LOCATION:Overtime Theater\, 5409 Bandera Rd.\, Suite 205\, San Antonio
END:VEVENT
BEGIN:VEVENT
DTSTART;TZID=UTC:20190607T193000
DTEND;TZID=UTC:20190608T193000
DTSTAMP:20260423T200218
CREATED:20190608T023141Z
LAST-MODIFIED:20190608T023141Z
UID:370-1559935800-1560022200@artsalivesa.com
SUMMARY:Once
DESCRIPTION:
URL:https://artsalivesa.com/event/once-4/
LOCATION:Public Theater of San Antonio\, San Pedro Park\, San Antonio\, Texas
END:VEVENT
BEGIN:VEVENT
DTSTART;TZID=UTC:20190605T000000
DTEND;TZID=UTC:20190807T000000
DTSTAMP:20260423T200218
CREATED:20190607T094411Z
LAST-MODIFIED:20190607T094411Z
UID:358-1559692800-1565136000@artsalivesa.com
SUMMARY:State of Hand Stitch
DESCRIPTION:A showcase for 11 fiber artists who specialize in hand-stitched art. A range of styles and themes\, from the abstract and nearly sculptural to the representational and abstract. Opened June 5\, closes Aug. 9\, 2019\, UTSA Main Art Gallery\, located in the Arts Building on the 1604 campus; room 2.03.04. Artists: Jane Dunnewold\, Lucia LaVilla-Havelin\, Kim Paxson\, Miki Rodriguez\, Debbie Armstrong\, Beth Cunningham5 Janis Hooker\, Barbara Lugge\, Mary Ruth Smith\, Pamela Studstill and Sue Ann Sullivan.
URL:https://artsalivesa.com/event/state-of-hand-stitch/
LOCATION:University of Texas at San Antonio Art Gallery\, 1604 campus\, San Antonio\, Texas
END:VEVENT
BEGIN:VEVENT
DTSTART;TZID=UTC:20190531T200000
DTEND;TZID=UTC:20190531T200000
DTSTAMP:20260423T200218
CREATED:20190503T080827Z
LAST-MODIFIED:20190503T080827Z
UID:266-1559332800-1559332800@artsalivesa.com
SUMMARY:San Antonio Symphony Presents: Nomadic Journey
DESCRIPTION:The concert highlights Gypsy musical influences throughout Europe\, from Romania and Russia to Hungary and France. Included composers: Enescu\, Tchaikovsky/Glazunov\, Ravel\, Kodaly and Brahms. The orchestra will be conducted by music director Sebastian Lang-Lessing. Violinist Vadim Guzman is the guest soloist.
URL:https://artsalivesa.com/event/san-antonio-symphony-presents-nomadic-journey/
LOCATION:Tobin Center for the Performing Arts\, 100 Auditorium Circle\, San Antonio
END:VEVENT
BEGIN:VEVENT
DTSTART;TZID=UTC:20190531T000000
DTEND;TZID=UTC:20190531T000000
DTSTAMP:20260423T200218
CREATED:20190522T095648Z
LAST-MODIFIED:20190522T095648Z
UID:325-1559260800-1559260800@artsalivesa.com
SUMMARY:Once
DESCRIPTION:See entry for May 24-25
URL:https://artsalivesa.com/event/once-3/
LOCATION:Public Theater of San Antonio\, San Pedro Park\, San Antonio\, Texas
END:VEVENT
BEGIN:VEVENT
DTSTART;TZID=UTC:20190530T193000
DTEND;TZID=UTC:20190530T193000
DTSTAMP:20260423T200218
CREATED:20190503T075516Z
LAST-MODIFIED:20190503T075516Z
UID:264-1559244600-1559244600@artsalivesa.com
SUMMARY:Pokey LaFarge
DESCRIPTION:This is how LaFarge describes himself and his music: “Limiting myself to a genre has never really been my thing. I’m most purely a rambler. I’m travelling the world all the time\, and my songs have been directly influenced by my travels. You’re liable to hear something in my songs that sounds like traditional jazz; next thing you know\, you might be hearing something that sounds like Bob Dylan’s Nashville Skyline mixed with the chanson singers of France\, or a waltz mixed with cumbia\, or soul mixed with swing.”
URL:https://artsalivesa.com/event/pokey-lafarge/
LOCATION:Carlos Alvarez Studio Theater\, Tobin Center for the Performing Arts\, 100 Auditorium Circle\, San Antonio\, Texas
END:VEVENT
BEGIN:VEVENT
DTSTART;TZID=UTC:20190530T193000
DTEND;TZID=UTC:20190530T193000
DTSTAMP:20260423T200218
CREATED:20190503T074440Z
LAST-MODIFIED:20190503T074440Z
UID:262-1559244600-1559244600@artsalivesa.com
SUMMARY:Patton Oswalt
DESCRIPTION:The popular\, award-winning comedian\, actor and writer\, whose work you have seen on TV\, Netflix and film\, will perform at the Tobin Center. His show was originally scheduled for February 21\, 2019 but had to be postponed. Tickets bought for the February event are valid for the rescheduled performance.
URL:https://artsalivesa.com/event/patton-oswalt/
LOCATION:Tobin Center for the Performing Arts\, 100 Auditorium Circle\, San Antonio
END:VEVENT
BEGIN:VEVENT
DTSTART;TZID=UTC:20190526T140000
DTEND;TZID=UTC:20190526T140000
DTSTAMP:20260423T200218
CREATED:20190522T095248Z
LAST-MODIFIED:20190522T095248Z
UID:323-1558879200-1558879200@artsalivesa.com
SUMMARY:Once
DESCRIPTION:See description from May 24 and 25
URL:https://artsalivesa.com/event/once-2/
LOCATION:Public Theater of San Antonio\, San Pedro Park\, San Antonio\, Texas
END:VEVENT
BEGIN:VEVENT
DTSTART;TZID=UTC:20190524T200000
DTEND;TZID=UTC:20190525T200000
DTSTAMP:20260423T200218
CREATED:20190503T073038Z
LAST-MODIFIED:20190503T073038Z
UID:260-1558728000-1558814400@artsalivesa.com
SUMMARY:San Antonio Symphony Presents: The Music of John Williams
DESCRIPTION:The San Antonio Symphony will play favorite movie music by prolific composer John Williams: Star Wars\, Harry Potter\, ET and more.
URL:https://artsalivesa.com/event/san-antonio-symphony-presents-the-music-of-john-williams/
LOCATION:Tobin Center for the Performing Arts\, 100 Auditorium Circle\, San Antonio
END:VEVENT
BEGIN:VEVENT
DTSTART;TZID=UTC:20190524T193000
DTEND;TZID=UTC:20190525T193000
DTSTAMP:20260423T200218
CREATED:20190522T094913Z
LAST-MODIFIED:20190522T094913Z
UID:319-1558726200-1558812600@artsalivesa.com
SUMMARY:Once
DESCRIPTION:A contemporary musical based on the 2007 movie about two musicians – an Irish busker\, identified only as Guy\, and a Czech pianist referred to as Girl – who meet on the street in Dublin\, spend several days together and develop a deep and special bond. Like the movie\, it features the songs by a real-life Irish-Czech duo\, Glen Hansard and Marketa Irglova. One of the songs\, “Falling Slowly” won an Oscar for Best Original song. The show also won a Grammy for Best Musical Theater Album. \nPerformances: Fridays-Saturdays\, 7:30 p.m.\, Sundays 2 p.m. through June 9\, 2019
URL:https://artsalivesa.com/event/once/
LOCATION:Public Theater of San Antonio\, San Pedro Park\, San Antonio\, Texas
END:VEVENT
BEGIN:VEVENT
DTSTART;TZID=UTC:20190519T180000
DTEND;TZID=UTC:20190519T180000
DTSTAMP:20260423T200218
CREATED:20190503T072338Z
LAST-MODIFIED:20190503T072338Z
UID:258-1558288800-1558288800@artsalivesa.com
SUMMARY:YOSApalooza
DESCRIPTION:Join YOSA\, the Youth Orchestras of San Antonio\, for the fifth annual YOSApalooza featuring all nine YOSA orchestras together for one spectacular concert. A simulcast of the concert will be broadcast on the giant screen in the Will Naylor Smith Plaza along the San Antonio River. \nThis is a free concert but tickets in the H-E-B Performance Hall are limited to three per family.
URL:https://artsalivesa.com/event/yosapalooza/
LOCATION:Tobin Center for the Performing Arts\, 100 Auditorium Circle\, San Antonio
END:VEVENT
BEGIN:VEVENT
DTSTART;TZID=UTC:20190516T190000
DTEND;TZID=UTC:20190516T190000
DTSTAMP:20260423T200218
CREATED:20190503T071413Z
LAST-MODIFIED:20190503T071413Z
UID:256-1558033200-1558033200@artsalivesa.com
SUMMARY:"Cinderella" by The Children's Ballet of San Antonio
DESCRIPTION:The classic fairytale is danced entirely by young dancers.
URL:https://artsalivesa.com/event/cinderella-by-the-childrens-ballet-of-san-antonio/
LOCATION:Tobin Center for the Performing Arts\, 100 Auditorium Circle\, San Antonio
END:VEVENT
BEGIN:VEVENT
DTSTART;TZID=UTC:20190515T193000
DTEND;TZID=UTC:20190515T193000
DTSTAMP:20260423T200218
CREATED:20190503T070746Z
LAST-MODIFIED:20190503T070746Z
UID:254-1557948600-1557948600@artsalivesa.com
SUMMARY:The LIghtning Thief: The Percy Jackson Musical
DESCRIPTION:This “winning adaptation” (The Hollywood Reporter) of the best-selling Disney-Hyperion novel by former San Antonian Rick Riordan\, “The Lightning Thief” is “electrifying” according to Newsday. The Greek gods are real and they’re ruining Percy Jackson’s life. As a son of Poseidon\, Percy has newly discovered powers he can’t control\, monsters on his trail\, and is on an epic quest to find Zeus’ lightning bolt to prevent a war between the gods. Was nominated for the Drama Desk Award for Best Musical.
URL:https://artsalivesa.com/event/the-lightning-thief-the-percy-jackson-musical/
LOCATION:Tobin Center for the Performing Arts\, 100 Auditorium Circle\, San Antonio
END:VEVENT
BEGIN:VEVENT
DTSTART;TZID=UTC:20190512T200000
DTEND;TZID=UTC:20190512T200000
DTSTAMP:20260423T200218
CREATED:20190501T101121Z
LAST-MODIFIED:20190501T101121Z
UID:246-1557691200-1557691200@artsalivesa.com
SUMMARY:YOSA Zachry Series: New World Landscapes
DESCRIPTION:Youth Orchestra of San Antonio concert featuring the first Texas presentation of Seattle-based digital media artist Adrian Wyard’s new visual accompaniment to Dvorak’s “New World” symphony. Glorious landscape imagery from all across America accompanies the music “beat-for-beat.” \nIn addition\, the program includes Lili Boulanger’s “Of a Spring Morning” and Aaron Copland’s “Appalachian Spring Suite.”
URL:https://artsalivesa.com/event/yosa-zachry-series-new-world-landscapes/
LOCATION:Tobin Center for the Performing Arts\, 100 Auditorium Circle\, San Antonio
END:VEVENT
BEGIN:VEVENT
DTSTART;TZID=UTC:20190512T190000
DTEND;TZID=UTC:20190512T190000
DTSTAMP:20260423T200218
CREATED:20190501T103526Z
LAST-MODIFIED:20190501T103526Z
UID:248-1557687600-1557687600@artsalivesa.com
SUMMARY:Blues Beatles
DESCRIPTION:The Blues Beatles band started playing Beatles’ songs in 2012\, with blues and soul grooves that suit the vocals of the songs while adding a different feel to them. “Their fiery live performances showcase their individual and collective skills.” Band members are Marcos Viana\, Flavio Naves\, Bruno Falcao and Fred Barley.
URL:https://artsalivesa.com/event/blues-beatles/
LOCATION:Carlos Alvarez Studio Theater\, Tobin Center for the Performing Arts\, 100 Auditorium Circle\, San Antonio\, Texas
END:VEVENT
BEGIN:VEVENT
DTSTART;TZID=UTC:20190512T150000
DTEND;TZID=UTC:20190512T150000
DTSTAMP:20260423T200218
CREATED:20190507T084823Z
LAST-MODIFIED:20190507T084823Z
UID:271-1557673200-1557673200@artsalivesa.com
SUMMARY:The Little Foxes
DESCRIPTION:See description from May 10-11
URL:https://artsalivesa.com/event/the-little-foxes-2/
LOCATION:Classic Theatre of San Antonio\, 1924 Fredericksburg Rd.\, San Antonio\, Texas
END:VEVENT
BEGIN:VEVENT
DTSTART;TZID=UTC:20190512T150000
DTEND;TZID=UTC:20190512T150000
DTSTAMP:20260423T200218
CREATED:20190427T004118Z
LAST-MODIFIED:20190427T004118Z
UID:225-1557673200-1557673200@artsalivesa.com
SUMMARY:Camerata San Antonio Season Finale: "Beauty"
DESCRIPTION:See description from April 26
URL:https://artsalivesa.com/event/camerata-san-antonio-season-finale-beauty-2/
LOCATION:University of the Incarnate Word Concert Hall\, 4301 Broadway\, San Antonio\, Texas
END:VEVENT
BEGIN:VEVENT
DTSTART;TZID=UTC:20190512T140000
DTEND;TZID=UTC:20190512T140000
DTSTAMP:20260423T200218
CREATED:20190507T085817Z
LAST-MODIFIED:20190507T085817Z
UID:275-1557669600-1557669600@artsalivesa.com
SUMMARY:Freud's Last Session
DESCRIPTION:See story in News & Commentary
URL:https://artsalivesa.com/event/freuds-last-session-4/
LOCATION:Public Theater of San Antonio/Cellar\, SAn Antonio
END:VEVENT
BEGIN:VEVENT
DTSTART;TZID=UTC:20190511T140000
DTEND;TZID=UTC:20190511T140000
DTSTAMP:20260423T200218
CREATED:20190501T095916Z
LAST-MODIFIED:20190501T095916Z
UID:243-1557583200-1557583200@artsalivesa.com
SUMMARY:Listen to Your Mother
DESCRIPTION:A special Mother’s Day event is a series of live readings by local authors on the subject of motherhood. Directed and produced by Jill Robbins and Jennie Badger\, “Listen to Your Mother” will touch many aspects of motherhood\, from being a mom and having a mom to losing a mom and finding one. \n 
URL:https://artsalivesa.com/event/listen-to-your-mother/
LOCATION:Carlos Alvarez Studio Theater\, Tobin Center for the Performing Arts\, 100 Auditorium Circle\, San Antonio\, Texas
END:VEVENT
BEGIN:VEVENT
DTSTART;TZID=UTC:20190511T100000
DTEND;TZID=UTC:20190511T100000
DTSTAMP:20260423T200218
CREATED:20190501T094853Z
LAST-MODIFIED:20190501T094853Z
UID:240-1557568800-1557568800@artsalivesa.com
SUMMARY:San Antonio Donut Fest
DESCRIPTION:This is the inaugural Donut Fest\, a family-friendly event that showcases the delicious treat plus gourmet pastries and breakfast dishes. Also\, coffee\, fresh juice\, mimosas\, beer and more. Enjoy music\, Saturday Morning Cartoons\, games and goods from other local artisans and artists. \nThe event benefits the Tobin Center for the Performing Arts\, a nonprofit. \nAdmission is free for kids under 10
URL:https://artsalivesa.com/event/san-antonio-donut-fest/
LOCATION:Will Naylor Smith River Walk Plaza\, 100 Auditorium Circle\, San Antonio\, TX 78205
END:VEVENT
BEGIN:VEVENT
DTSTART;TZID=UTC:20190510T200000
DTEND;TZID=UTC:20190511T200000
DTSTAMP:20260423T200218
CREATED:20190507T084314Z
LAST-MODIFIED:20190507T084314Z
UID:268-1557518400-1557604800@artsalivesa.com
SUMMARY:The Little Foxes
DESCRIPTION:Lillian Hellman’s famous play about greed and its destructive power. See story in News & Commentary. Top-notch cast includes Kelly Hilliard Roush\, Anthony Ciaravino\, John O’Neill and Byrd Bonner.
URL:https://artsalivesa.com/event/the-little-foxes/
LOCATION:Classic Theatre of San Antonio\, 1924 Fredericksburg Rd.\, San Antonio\, Texas
END:VEVENT
BEGIN:VEVENT
DTSTART;TZID=UTC:20190510T200000
DTEND;TZID=UTC:20190510T200000
DTSTAMP:20260423T200218
CREATED:20190501T093423Z
LAST-MODIFIED:20190501T093423Z
UID:237-1557518400-1557518400@artsalivesa.com
SUMMARY:H-E-B Cinema on the Plaza: Mary Poppins Returns
DESCRIPTION:Free movie screening outdoors. Concessions available for purchase\, including a full bar. Chairs are provided but attendees are also encouraged to bring their own blankets and portable chairs. No pets allowed. Movie starts at 8 p.m.; plaza will open at 7 p.m.
URL:https://artsalivesa.com/event/h-e-b-cinema-on-the-plaza-mary-poppins-returns/
LOCATION:Will Naylor Smith River Walk Plaza\, 100 Auditorium Circle\, San Antonio\, TX 78205
END:VEVENT
BEGIN:VEVENT
DTSTART;TZID=UTC:20190509T193000
DTEND;TZID=UTC:20190511T193000
DTSTAMP:20260423T200218
CREATED:20190507T092346Z
LAST-MODIFIED:20190507T092346Z
UID:277-1557430200-1557603000@artsalivesa.com
SUMMARY:Freud's Last Session
DESCRIPTION:See story in News and Commentary
URL:https://artsalivesa.com/event/freuds-last-session-3/
LOCATION:Public Theater of San Antonio/Cellar\, SAn Antonio
END:VEVENT
END:VCALENDAR